Workbook

Sheet Баланс
DA2: Отчетность некредитной финансовой организации | DR2: Отчетность некредитной финансовой организации
AP4: Код территории по ОКАТО | BE4: Код некредитной финансовой организации
BE5: по ОКПО | BN5: основной государственный регистрационный номер | CO5: регистра-ционный номер
AP6: 65401000000 | BE6: 65701000 | BN6: 1076672027299
A8: БУХГАЛТЕРСКИЙ БАЛАНС НЕКРЕДИТНОЙ ФИНАНСОВОЙ ОРГАНИЗАЦИИ
AF10: на « | AM10: 30 | AR10: » | AU10: июня | BK10: 2025 | BS10: г.
A12: Общество с ограниченной ответственностью Управляющая компания "Регион Финанс"
A13: (полное фирменное и сокращенное фирменное наименования)
A15: Почтовый адрес | S15: 620026, г.Екатеринбург, ул.Белинского, д.56
BU17: Код формы по ОКУД: 0420002
BU18: Годовая (квартальная)
BU19: (тыс.руб.)
A21: Номер строки | K21: Наименование показателя | BE21: Примечания к строкам | BT21: На | BY21: 30 июня | CK21: На | CP21: 31 декабря | DB21: На | DG21: 31 декабря
BW22: 20 | CA22: 25 | CE22: г. | CN22: 20 | CR22: 24 | CV22: г. | DE22: 20 | DI22: 23 | DM22: г.
A24: 1 | K24: 2 | BE24: 3 | BT24: 4 | CK24: 5 | DB24: 6
A25: Раздел I. Активы
A26: 1 | L26: Денежные средства | BE26: 5 | BT26: 696247.43 | CK26: 69436.81 | DB26: 1541619.9
A27: 2 | L27: Финансовые активы, оцениваемые по справедливой стоимости через прибыль или убыток, в том числе: | BT27: 73748576 | CK27: 73748576 | DB27: 0
A28: 3 | L28: финансовые активы, в обязательном порядке классифицируемые как оцениваемые по справедливой стоимости через прибыль или убыток | BE28: 6 | BT28: 73748576 | CK28: 73748576 | DB28: 0
A29: 4 | L29: финансовые активы, классифицируемые как оцениваемые по справедливой стоимости через прибыль или убыток по усмотрению некредитной финансовой организации | BE29: 7 | BT29: 0 | CK29: 0 | DB29: 0
A30: 5 | L30: Финансовые активы, оцениваемые по справедливой стоимости через прочий совокупный доход, в том числе: | BE30: - | BT30: 0 | CK30: 0 | DB30: 0
A31: 6 | L31: долговые инструменты | BE31: 8 | BT31: 0 | CK31: 0 | DB31: 0
A32: 7 | L32: долевые инструменты | BE32: 9 | BT32: 0 | CK32: 0 | DB32: 0
A33: 8 | L33: Финансовые активы, оцениваемые по амортизированной стоимости, в том числе: | BE33: - | BT33: 31398946 | CK33: 33276545 | DB33: 28225356
A34: 9 | L34: средства в кредитных организациях и банках-нерезидентах | BE34: 10 | BT34: 29068490 | CK34: 29505913 | DB34: 24380780
A35: 10 | L35: займы выданные и прочие размещенные средства | BE35: 11 | BT35: 0 | CK35: 0 | DB35: 0
A36: 11 | L36: дебиторская задолженность | BE36: 12 | BT36: 2330456.8 | CK36: 3770632.1 | DB36: 3844575.8
A37: 12 | L37: Инвестиции в ассоциированные предприятия | BE37: 13 | BT37: 0 | CK37: 0 | DB37: 0
A38: 13 | L38: Инвестиции в совместно контролируемые предприятия | BE38: 14 | BT38: 0 | CK38: 0 | DB38: 0
A39: 14 | L39: Инвестиции в дочерние предприятия | BE39: 15 | BT39: 0 | CK39: 0 | DB39: 0
A40: 15 | L40: Активы (активы выбывающих групп), классифицированные как предназначенные для продажи | BE40: 16 | BT40: 0 | CK40: 0 | DB40: 0
A41: 16 | L41: Инвестиционное имущество | BE41: 17 | BT41: 0 | CK41: 0 | DB41: 0
A42: 17 | L42: Нематериальные активы | BE42: 18 | BT42: 0 | CK42: 0 | DB42: 0
A43: 18 | L43: Основные средства | BE43: 19 | BT43: 684428 | CK43: 698987.53 | DB43: 1753490.1
A44: 19 | L44: Требования по текущему налогу на прибыль | BE44: 48 | BT44: 0 | CK44: 0 | DB44: 0
A45: 20 | L45: Отложенные налоговые активы | BE45: 48 | BT45: 5420074.6 | CK45: 5119493 | DB45: 0
A46: 21 | L46: Прочие активы | BE46: 20 | BT46: 275855.05 | CK46: 250673.7 | DB46: 77321.17
A47: 22 | L47: Итого активов | BT47: 1.1222413e+08 | CK47: 1.1316371e+08 | DB47: 31597787
A48: Раздел II. Обязательства
A49: 23 | L49: Финансовые обязательства, оцениваемые по справедливой стоимости через прибыль или убыток, в том числе: | BT49: 0 | CK49: 0 | DB49: 0
...

Sheet ОФР
DA1: Отчетность некредитной финансовой организации
AP3: Код территории по ОКАТО | BE3: Код некредитной финансовой организации
BE4: по ОКПО | BN4: основной государственный регистрационный номер | CO4: регистра-ционный номер
AP5: 65401000000 | BE5: 65701000 | BN5: 1076672027299 | CO5: -
A7: ОТЧЕТ О ФИНАНСОВЫХ РЕЗУЛЬТАТАХ НЕКРЕДИТНОЙ ФИНАНСОВОЙ ОРГАНИЗАЦИИ
AL9: за | AP9: 6 месяцев | BF9: 2025 | BN9: г.
A11: Общество с ограниченной ответственностью Управляющая компания "Регион Финанс"
A12: (полное фирменное и сокращенное фирменное наименования)
A14: Почтовый адрес | S14: 620026, г.Екатеринбург, ул.Белинского, д.56
BV16: Код формы по ОКУД: 0420003
BU17: Годовая (квартальная)
BU18: (тыс.руб.)
A20: Номер строки | K20: Наименование показателя | BE20: Примечания к строкам | BT20: На | BY20: 30 июня | CK20: На | CP20: 30 июня
BW21: 20 | CA21: 25 | CE21: г. | CN21: 20 | CR21: 24 | CV21: г.
A23: 1 | K23: 2 | BE23: 3 | BT23: 4 | CK23: 5
A24: Раздел I. Прибыли и убытки
A25: 1 | L25: Торговые и инвестиционные доходы, в том числе: | BE25: - | BT25: 1398305.4 | CK25: 354565.97
A26: 2 | L26: доходы за вычетом расходов (расходы за вычетом доходов) от операций с финансовыми инструментами, в обязательном порядке классифицируемыми как оцениваемые по справедливой стоимости через прибыль или убыток | BE26: 32 | BT26: 0 | CK26: 0
A27: 3 | L27: доходы за вычетом расходов (расходы за вычетом доходов) от операций с финансовыми активами, классифицируемыми как оцениваемые по справедливой стоимости через прибыль или убыток по усмотрению некредитной финансовой организации | BE27: 33 | BT27: 0 | CK27: 0
A28: 4 | L28: процентные доходы | BE28: 34 | BT28: 2868366.4 | CK28: 1733159
A29: 5 | L29: дивиденды и доходы от участия | BT29: 0 | CK29: 0
A30: 6 | L30: доходы за вычетом расходов (расходы за вычетом доходов) от операций с долговыми инструментами, оцениваемыми по справедливой стоимости через прочий совокупный доход | BE30: 35 | BT30: 0 | CK30: 0
A31: 7 | L31: доходы за вычетом расходов (расходы за вычетом доходов) от операций с долевыми инструментами, оцениваемыми по справедливой стоимости через прочий совокупный доход | BE31: 36 | BT31: 0 | CK31: 0
A32: 8 | L32: доходы за вычетом расходов (расходы за вычетом доходов), возникающие в результате прекращения признания финансовых активов, оцениваемых по амортизированной стоимости | BT32: 0 | CK32: 0
A33: 9 | L33: доходы за вычетом расходов (расходы за вычетом доходов), связанные с реклассификацией финансовых активов, оцениваемых по амортизированной стоимости, в категорию финансовых активов, оцениваемых по справедливой стоимости через прибыль или убыток | BT33: 0 | CK33: 0
A34: 10 | L34: доходы за вычетом расходов (расходы за вычетом доходов) по восстановлению (созданию) резервов под обесценение финансовых активов, оцениваемых по амортизированной стоимости | BE34: 37 | BT34: -1470061 | CK34: -1378593
A35: 11 | L35: доходы за вычетом расходов (расходы за вычетом доходов) по восстановлению (созданию) резервов под обесценение долговых инструментов, оцениваемых по справедливой стоимости через прочий совокупный доход | BT35: 0 | CK35: 0
A36: 12 | L36: доходы за вычетом расходов (расходы за вычетом доходов) от операций с инвестиционным имуществом | BE36: 38 | BT36: 0 | CK36: 0
A37: 13 | L37: доходы за вычетом расходов (расходы за вычетом доходов) от операций с иностранной валютой | BE37: 39 | BT37: 0 | CK37: 0
A38: 14 | L38: прочие инвестиционные доходы за вычетом расходов (расходы за вычетом доходов) | BE38: 40 | BT38: 0 | CK38: 0
A39: 15 | L39: Выручка от оказания услуг и комиссионные доходы | BE39: 41 | BT39: 4404178 | CK39: 8685480.8
A40: 16 | L40: Расходы на персонал | BE40: 42 | BT40: -2488023 | CK40: -1321726.6
A41: 17 | L41: Прямые операционные расходы | BE41: 43 | BT41: -412650 | CK41: -181650
A42: 18 | L42: Процентные расходы | BE42: 44 | BT42: -33514.88 | CK42: -17333.47
A43: 19 | L43: Доходы за вычетом расходов (расходы за вычетом доходов) от операций с финансовыми обязательствами, классифицируемыми как оцениваемые по справедливой стоимости через прибыль или убыток по усмотрению некредитной финансовой организации | BE43: 45 | BT43: 0 | CK43: 0
A44: 20 | L44: Общие и административные расходы | BE44: 46 | BT44: -4663567.3 | CK44: -7155412.4
A45: 21 | L45: Доходы за вычетом расходов (расходы за вычетом доходов) от переоценки и выбытия активов (выбывающих групп), классифицированных как предназначенные для продажи | BE45: 16 | BT45: 0 | CK45: 0
A46: 22 | L46: Прочие доходы | BE46: 47 | BT46: 122749.32 | CK46: 6000
A47: 23 | L47: Прочие расходы | BE47: 47 | BT47: -129633.05 | CK47: -46787.06
A48: 24 | L48: Прибыль (убыток) до налогообложения | BT48: -1802155.6 | CK48: 323137.3
...

Sheet Капитал
FK1: Отчетность некредитной финансовой организации
CZ3: Код территории по ОКАТО | DO3: Код некредитной финансовой организации
DO4: по ОКПО | DX4: основной государственный регистрационный номер | EY4: регистра-ционный номер
CZ5: 65401000000 | DO5: 65701000 | DX5: 1076672027299
A7: ОТЧЕТ ОБ ИЗМЕНЕНИЯХ СОБСТВЕННОГО КАПИТАЛА НЕКРЕДИТНОЙ ФИНАНСОВОЙ ОРГАНИЗАЦИИ
BQ9: за | BU9: 6 месяцев | CK9: 2025 | CS9: г.
A11: Общество с ограниченной ответственностью Управляющая компания "Регион Финанс"
A12: (полное фирменное и сокращенное фирменное наименования)
A14: Почтовый адрес | S14: 620026, г.Екатеринбург, ул.Белинского, д.56
EF16: Код формы по ОКУД: 0420004
EF17: Годовая (квартальная)
EF18: (тыс.руб.)
A19: Номер строки | F19: Наименование показателя | AP19: Примечания к строкам | AW19: Уставный капитал | BD19: Добавочный капитал | BK19: Резервный капитал | BR19: Собственные акции (доли участия), выкупленные у акционеров (участников) | BY19: Резерв переоценки долевых инструментов, оцениваемых по справедливой стоимости через прочий совокупный доход | CG19: Резерв переоценки долговых инструментов, оцениваемых по справедливой стоимости через прочий совокупный доход | CO19: Оценочный резерв под обесценение долговых инструментов, оцениваемых по справедливой стоимости через прочий совокупный доход | CW19: Резерв переоценки основных средств и нематериальных активов | DD19: Резерв переоценки финансовых обязательств, учитываемых по справедливой стоимости через прибыль или убыток, связанной с изменением кредитного риска | DO19: Резерв переоценки обязательств по вознаграждениям работникам по окончании трудовой деятельности, не ограниченным фиксируемыми платежами | DZ19: Резерв хеджирования долевых инструментов, оцениваемых по справедливой стоимости через прочий совокупный доход | EH19: Резерв хеджирования денежных потоков | EO19: Прочие резервы | EV19: Нераспределенная прибыль (непокрытый убыток) | FD19: Итого
A21: 1 | F21: 2 | AP21: 3 | AW21: 4 | BD21: 5 | BK21: 6 | BR21: 7 | BY21: 8 | CG21: 9 | CO21: 10 | CW21: 11 | DD21: 12 | DO21: 13 | DZ21: 14 | EH21: 15 | EO21: 16 | EV21: 17 | FD21: 18
A22: 1 | G22: Остаток на | R22: 31 | W22: 12 | AF22: 20 | AI22: 23 | AL22: г. | AW22: 27510000 | BD22: 1000000 | BK22: 0 | BR22: 0 | BY22: 0 | CG22: 0 | CO22: 0 | CW22: 0 | DD22: 0 | DO22: 0 | DZ22: 0 | EH22: 0 | EO22: 0 | EV22: 1097857.5 | FD22: 29607857
A24: 2 | G24: Изменения вследствие выявленных ошибок | AW24: 0 | BD24: 0 | BK24: 0 | BR24: 0 | BY24: 0 | CG24: 0 | CO24: 0 | CW24: 0 | DD24: 0 | DO24: 0 | DZ24: 0 | EH24: 0 | EO24: 0 | EV24: 0 | FD24: 0
A25: 3 | G25: Изменения вследствие изменения учетной политики | AW25: 0 | BD25: 0 | BK25: 0 | BR25: 0 | BY25: 0 | CG25: 0 | CO25: 0 | CW25: 0 | DD25: 0 | DO25: 0 | DZ25: 0 | EH25: 0 | EO25: 0 | EV25: 0 | FD25: 0
A26: 4 | G26: Остаток на | R26: 01 | W26: 01 | AF26: 20 | AI26: 24 | AL26: г., | AW26: 27510000 | BD26: 1000000 | BK26: 0 | BR26: 0 | BY26: 0 | CG26: 0 | CO26: 0 | CW26: 0 | DD26: 0 | DO26: 0 | DZ26: 0 | EH26: 0 | EO26: 0 | EV26: 1097857.5 | FD26: 29607857
G27: пересмотренный
A28: 5 | G28: Прибыль (убыток) после налогообложения | AW28: 0 | BD28: 0 | BK28: 0 | BR28: 0 | BY28: 0 | CG28: 0 | CO28: 0 | CW28: 0 | DD28: 0 | DO28: 0 | DZ28: 0 | EH28: 0 | EO28: 0 | EV28: 248205.67 | FD28: 248205.67
A29: 6 | G29: Прочий совокупный доход (расход) за предыдущий отчетный период, в том числе: | AW29: 0 | BD29: 0 | BK29: 0 | BR29: 0 | BY29: 0 | CG29: 0 | CO29: 0 | CW29: 0 | DD29: 0 | DO29: 0 | DZ29: 0 | EH29: 0 | EO29: 0 | EV29: 0 | FD29: 0
A30: 7 | G30: прочий совокупный доход (расход), не подлежащий переклассификации в состав прибыли или убытка в последующих периодах | AW30: 0 | BD30: 0 | BK30: 0 | BR30: 0 | BY30: 0 | CG30: 0 | CO30: 0 | CW30: 0 | DD30: 0 | DO30: 0 | DZ30: 0 | EH30: 0 | EO30: 0 | EV30: 0 | FD30: 0
A31: 8 | G31: прочий совокупный доход (расход), подлежащий переклассификации в состав прибыли или убытка в последующих периодах | AW31: 0 | BD31: 0 | BK31: 0 | BR31: 0 | BY31: 0 | CG31: 0 | CO31: 0 | CW31: 0 | DD31: 0 | DO31: 0 | DZ31: 0 | EH31: 0 | EO31: 0 | EV31: 0 | FD31: 0
A32: 9 | G32: Дополнительный выпуск акций (дополнительные вклады участников общества, вклады третьих лиц, принимаемых в общество) | AP32: 30 | AW32: 0 | BD32: 0 | BK32: 0 | BR32: 0 | BY32: 0 | CG32: 0 | CO32: 0 | CW32: 0 | DD32: 0 | DO32: 0 | DZ32: 0 | EH32: 0 | EO32: 0 | EV32: 0 | FD32: 0
A33: 10 | G33: Выкуп у акционеров (участников) (продажа) собственных акций (долей участия) | AP33: 30 | AW33: 0 | BD33: 0 | BK33: 0 | BR33: 0 | BY33: 0 | CG33: 0 | CO33: 0 | CW33: 0 | DD33: 0 | DO33: 0 | DZ33: 0 | EH33: 0 | EO33: 0 | EV33: 0 | FD33: 0
A34: 11 | G34: Дивиденды и иные аналогичные выплаты в пользу акционеров (участников) | AP34: 49 | AW34: 0 | BD34: 0 | BK34: 0 | BR34: 0 | BY34: 0 | CG34: 0 | CO34: 0 | CW34: 0 | DD34: 0 | DO34: 0 | DZ34: 0 | EH34: 0 | EO34: 0 | EV34: 0 | FD34: 0
A35: 12 | G35: Прочие взносы акционеров (участников) | AW35: 0 | BD35: 0 | BK35: 0 | BR35: 0 | BY35: 0 | CG35: 0 | CO35: 0 | CW35: 0 | DD35: 0 | DO35: 0 | DZ35: 0 | EH35: 0 | EO35: 0 | EV35: 0 | FD35: 0
A36: 13 | G36: Прочие распределения в пользу акционеров (участников) | AW36: 0 | BD36: 0 | BK36: 0 | BR36: 0 | BY36: 0 | CG36: 0 | CO36: 0 | CW36: 0 | DD36: 0 | DO36: 0 | DZ36: 0 | EH36: 0 | EO36: 0 | EV36: 0 | FD36: 0
A37: 14 | G37: Прочее движение резервов | AW37: 0 | BD37: 0 | BK37: 0 | BR37: 0 | BY37: 0 | CG37: 0 | CO37: 0 | CW37: 0 | DD37: 0 | DO37: 0 | DZ37: 0 | EH37: 0 | EO37: 0 | EV37: 0 | FD37: 0
A38: 15 | G38: Остаток на | R38: 30 | W38: 06 | AF38: 20 | AI38: 24 | AL38: г. | AW38: 27510000 | BD38: 1000000 | BK38: 0 | BR38: 0 | BY38: 0 | CG38: 0 | CO38: 0 | CW38: 0 | DD38: 0 | DO38: 0 | DZ38: 0 | EH38: 0 | EO38: 0 | EV38: 1346063.1 | FD38: 29856063
A40: 16 | G40: Изменения вследствие выявленных ошибок | AW40: 0 | BD40: 0 | BK40: 0 | BR40: 0 | BY40: 0 | CG40: 0 | CO40: 0 | CW40: 0 | DD40: 0 | DO40: 0 | DZ40: 0 | EH40: 0 | EO40: 0 | EV40: 0 | FD40: 0
A41: 17 | G41: Изменения вследствие изменения учетной политики | AW41: 0 | BD41: 0 | BK41: 0 | BR41: 0 | BY41: 0 | CG41: 0 | CO41: 0 | CW41: 0 | DD41: 0 | DO41: 0 | DZ41: 0 | EH41: 0 | EO41: 0 | EV41: 0 | FD41: 0
A42: 18 | G42: Остаток на | R42: 01 | W42: 01 | AF42: 20 | AI42: 25 | AL42: г., | AW42: 27510000 | BD42: 84500000 | BK42: 0 | BR42: 0 | BY42: 0 | CG42: 0 | CO42: 0 | CW42: 0 | DD42: 0 | DO42: 0 | DZ42: 0 | EH42: 0 | EO42: 0 | EV42: -1118451.3 | FD42: 1.1089155e+08
G43: пересмотренный
A44: 19 | G44: Прибыль (убыток) после налогообложения | AW44: 0 | BD44: 0 | BK44: 0 | BR44: 0 | BY44: 0 | CG44: 0 | CO44: 0 | CW44: 0 | DD44: 0 | DO44: 0 | DZ44: 0 | EH44: 0 | EO44: 0 | EV44: -1501574 | FD44: -1501574
A45: 20 | G45: Прочий совокупный доход (расход) за отчетный период, в том числе: | AW45: 0 | BD45: 0 | BK45: 0 | BR45: 0 | BY45: 0 | CG45: 0 | CO45: 0 | CW45: 0 | DD45: 0 | DO45: 0 | DZ45: 0 | EH45: 0 | EO45: 0 | EV45: 0 | FD45: 0
A46: 21 | G46: прочий совокупный доход (расход), не подлежащий переклассификации в состав прибыли или убытка в последующих периодах | AW46: 0 | BD46: 0 | BK46: 0 | BR46: 0 | BY46: 0 | CG46: 0 | CO46: 0 | CW46: 0 | DD46: 0 | DO46: 0 | DZ46: 0 | EH46: 0 | EO46: 0 | EV46: 0 | FD46: 0
A47: 22 | G47: прочий совокупный доход (расход), подлежащий переклассификации в состав прибыли или убытка в последующих периодах | AW47: 0 | BD47: 0 | BK47: 0 | BR47: 0 | BY47: 0 | CG47: 0 | CO47: 0 | CW47: 0 | DD47: 0 | DO47: 0 | DZ47: 0 | EH47: 0 | EO47: 0 | EV47: 0 | FD47: 0
A48: 23 | G48: Дополнительный выпуск акций (дополнительные вклады участников общества, вклады третьих лиц, принимаемых в общество) | AP48: 30 | AW48: 0 | BD48: 0 | BK48: 0 | BR48: 0 | BY48: 0 | CG48: 0 | CO48: 0 | CW48: 0 | DD48: 0 | DO48: 0 | DZ48: 0 | EH48: 0 | EO48: 0 | EV48: 0 | FD48: 0
A49: 24 | G49: Выкуп у акционеров (участников) (продажа) собственных акций (долей) | AP49: 30 | AW49: 0 | BD49: 0 | BK49: 0 | BR49: 0 | BY49: 0 | CG49: 0 | CO49: 0 | CW49: 0 | DD49: 0 | DO49: 0 | DZ49: 0 | EH49: 0 | EO49: 0 | EV49: 0 | FD49: 0
...

Sheet ОДС
DA1: Отчетность некредитной финансовой организации
AP3: Код территории по ОКАТО | BE3: Код некредитной финансовой организации
BE4: по ОКПО | BN4: основной государственный регистрационный номер | CO4: регистра-ционный номер
AP5: 65401000000 | BE5: 65701000 | BN5: 1076672027299
A7: ОТЧЕТ О ПОТОКАХ ДЕНЕЖНЫХ СРЕДСТВ НЕКРЕДИТНОЙ ФИНАНСОВОЙ ОРГАНИЗАЦИИ
AK9: за | AP9: 6 месяцев | BF9: 2025 | BN9: г.
A11: Общество с ограниченной ответственностью Управляющая компания "Регион Финанс"
A12: (полное фирменное и сокращенное фирменное наименования)
A14: Почтовый адрес | S14: 620026, г.Екатеринбург, ул.Белинского, д.56
BU16: Код формы по ОКУД: 0420005
BU17: Годовая (квартальная)
BU18: (тыс.руб.)
A20: Номер строки | K20: Наименование показателя | BE20: Примечания к строкам | BT20: За | BY20: 6 месяцев | CK20: За | CP20: 6 месяцев
BW21: 20 | CA21: 25 | CE21: г. | CN21: 20 | CR21: 24 | CV21: г.
A23: 1 | K23: 2 | BE23: 3 | BT23: 4 | CK23: 5
L24: Раздел I. Денежные потоки от операционной деятельности
A25: 1 | L25: Поступления от продажи и погашения финансовых активов или от размещения финансовых обязательств, в обязательном порядке классифицируемых как оцениваемые по справедливой стоимости через прибыль или убыток | BT25: 0 | CK25: 0
A26: 2 | L26: Платежи в связи с приобретением финансовых активов или погашением финансовых обязательств, в обязательном порядке классифицируемых как оцениваемые по справедливой стоимости через прибыль или убыток | BT26: 0 | CK26: 0
A27: 3 | L27: Денежные поступления от предоставления услуг и полученные комиссии | BE27: 1 | BT27: 4376204.2 | CK27: 6314852.9
A28: 4 | L28: Денежные выплаты поставщикам за товары и услуги | BE28: 2 | BT28: -4752537.4 | CK28: -5964154.6
A29: 5 | L29: Проценты полученные | BT29: 2553208.3 | CK29: 1666357.5
A30: 6 | L30: Проценты уплаченные | BT30: 0 | CK30: 0
A31: 7 | L31: Поступления в результате распределения прибыли (дивидендов) от дочерних, ассоциированных, совместно контролируемых предприятий | CK31: 0
A32: 8 | L32: Средства, полученные для перечисления клиентам доходов по ценным бумагам, за минусом средств, перечисленных клиентам | CK32: 0
A33: 9 | L33: Выплата заработной платы и прочего вознаграждения сотрудникам | BT33: -1482632 | CK33: -965140.26
A34: 10 | L34: Оплата прочих административных и операционных расходов | BT34: -426737.89 | CK34: -136116.12
A35: 11 | L35: Уплаченный налог на прибыль | BT35: -278280 | CK35: -352693
A36: 12 | L36: Прочие денежные потоки от операционной деятельности | BT36: -1964.62 | CK36: 9518
A37: 13 | L37: Сальдо денежных потоков от операционной деятельности | BT37: -12739.38 | CK37: 572624.45
L38: Раздел II. Денежные потоки от инвестиционной деятельности
A39: 14 | L39: Поступления от продажи основных средств | BT39: 0 | CK39: 0
A40: 15 | L40: Поступления от продажи инвестиционного имущества | BT40: 0 | CK40: 0
A41: 16 | L41: Поступления от продажи нематериальных активов | BT41: 0 | CK41: 0
A42: 17 | L42: Платежи в связи с приобретением, созданием, модернизацией, реконструкцией и подготовкой к использованию основных средств | BT42: 0 | CK42: 0
A43: 18 | L43: Платежи в связи с приобретением, созданием нематериальных активов | BT43: 0 | CK43: 0
A44: 19 | L44: Платежи в связи с приобретением, созданием, модернизацией, подготовкой к использованию инвестиционного имущества | BT44: 0 | CK44: 0
A45: 20 | L45: Поступления от продажи акций (долей участия) дочерних, ассоциированных, совместно контролируемых предприятий | BT45: 0 | CK45: 0
A46: 21 | L46: Платежи в связи с вложениями в акции (доли участия) дочерних, ассоциированных, совместно контролируемых предприятий | BT46: 0 | CK46: 0
A47: 22 | L47: Поступления от продажи и погашения финансовых активов, классифицируемых как оцениваемые по справедливой стоимости через прибыль или убыток по усмотрению некредитной финансовой организации | BT47: 0 | CK47: 0
A48: 23 | L48: Платежи в связи с приобретением финансовых активов, классифицируемых как оцениваемые по справедливой стоимости через прибыль или убыток по усмотрению некредитной финансовой организации | BT48: 0 | CK48: 0
...

Sheet 1
A1: ПРИМЕЧАНИЯ К БУХГАЛТЕРСКОЙ (ФИНАНСОВОЙ) ОТЧЁТНОСТИ
A2: ООО Управляющая компания «Регион Финанс»
B3: по состоянию на 30.06.2025
A4: Примечание 1. Основная деятельность некредитной финансовой организации
D5: Таблица 1.1
A6: Номер строки | B6: Стандарт МСФО | C6: Требования к раскрытию информации | D6: Описание
A7: 1 | B7: 2 | C7: 3 | D7: 4
A8: 1 | B8: МСФО (IAS) 1 | C8: Номер лицензии | D8: 21-000-1-00925
A9: 2 | B9: МСФО (IAS) 1 | C9: Срок действия лицензии | D9: Бессрочный
A10: 3 | B10: МСФО (IAS) 1 | C10: Дата выдачи лицензии | D10: 41166
A11: 4 | B11: МСФО (IAS) 1 | C11: Виды деятельности, на осуществление которых выдана лицензия | D11: Деятельность по управлению инвестиционными фондами, паевыми инвестиционными фондами и негосударственными пенсионными фондами
A12: 5 | B12: МСФО (IAS) 1 | C12: Информация о возобновлении действия лицензии | D12: -
A13: 6 | B13: МСФО (IAS) 1 | C13: Организационно-правовая форма некредитной финансовой организации | D13: Общество с ограниченной ответственностью
A14: 7 | B14: МСФО (IAS) 1, МСФО (IAS) 24 | C14: Наименование материнского предприятия и наименование конечного владельца (бенефициара) | D14: Копытов Дмитрий Валерьевич
A15: 8 | B15: МСФО (IAS) 1, МСФО (IAS) 24 | C15: Местонахождение материнского предприятия группы, в состав которой входит некредитная финансовая организация | D15: -
A16: 9 | B16: МСФО (IAS) 1 | C16: Количество филиалов некредитной финансовой организации, открытых на территории Российской Федерации | D16: -
A17: 10 | B17: МСФО (IAS) 1 | C17: Количество филиалов некредитной финансовой организации, открытых на территории иностранных государств | D17: -
A18: 11 | B18: МСФО (IAS) 1 | C18: Места нахождения филиалов некредитной финансовой организации, открытых на территории иностранных государств | D18: -
A19: 12 | B19: МСФО (IAS) 1 | C19: Юридический адрес некредитной финансовой организации | D19: 62026, г.Екатеринбург, д.56
A20: 13 | B20: МСФО (IAS) 1 | C20: Фактический адрес некредитной финансовой организации | D20: 62026, г.Екатеринбург, д.56, оф.303
A21: 14 | B21: МСФО (IAS) 1 | C21: Численность персонала некредитной финансовой организации | D21: 7
A22: 15 | B22: МСФО (IAS) 21 | C22: Валюта отчетности | D22: Тысяча рублей

Sheet 2
A1: ПРИМЕЧАНИЯ К БУХГАЛТЕРСКОЙ (ФИНАНСОВОЙ) ОТЧЁТНОСТИ
A2: ООО Управляющая компания «Регион Финанс»
A3: ='1'!B3 -> по состоянию на 30.06.2025
A4: Примечание 2. Экономическая среда, в которой некредитная финансовая организация осуществляет свою деятельность
D5: Таблица 2.1
A6: Номер строки | B6: Стандарт МСФО | C6: Требования к раскрытию информации | D6: Описание
A7: 1 | B7: 2 | C7: 3 | D7: 4
A8: 1 | B8: МСФО (IAS) 1 | C8: Основные факторы и влияния, определяющие финансовые результаты. | D8: В 2024 г. на деятельность и бухгалтерскую отчетность организаций продолжает оказывать существенное влияние комплекс факторов экономического и иного характера. Среди них, в частности, геополитическая обстановка, ограничения, введенные в отношении Российской Федерации, ее экономических субъектов и граждан отдельными государствами и их объединениями, меры, принимаемые в Российской Федерации в ответ на внешнее санкционное давление. Это обстоятельство, в свою очередь, не может не иметь последствий для организации и осуществления аудита бухгалтерской отчетности. Темп роста ВВП в 2024 году составил 4,1%, превысив верхнюю границу октябрьского прогнозного диапазона. Расширение экономической активности в 2024 году было в значительной степени обеспечено потребительским и инвестиционным спросом. По оценке Банка России, темп роста экономической активности в IV квартале 2024 года ускорился и составил 3,3% к соответствующему периоду прошлого года. Эта оценка учитывает в том числе пересмотр Росстатом исторических данных по динамике ВВП за 2022–2023 годы. Динамика внутреннего спроса продолжает значительно опережать возможности расширения производства товаров и услуг. С учетом этого для выхода экономики на траекторию сбалансированного роста требуется продолжительный период поддержания жестких денежнокредитных условий. В дальнейшем под влиянием накопления эффектов жесткой денежно-кредитной политики и нормализации бюджетной политики темпы роста внутреннего спроса замедлятся, а разрыв выпуска сократится. В обновленном прогнозе, с учетом более высокой экономической активности в конце 2024 года, траектория этого замедления предполагается несколько более плавной, чем ожидалось в октябре. Темп роста ВВП замедлится до 1,0–2,0% в 2025 году и 0,5–1,5% в 2026 году. Доля инвестиций в ВВП сохранится на высоком уровне, достигнутом в 2023–2024 годах. Вклад потребительского спроса в динамику ВВП в 2026–2027 годах будет расти по мере снижения процентных ставок и возвращения экономики к траектории сбалансированного роста. В базовом сценарии ожидается рост российской экономики на 1,5–2,5% в 2027 году.

Sheet 3
A1: ПРИМЕЧАНИЯ К БУХГАЛТЕРСКОЙ (ФИНАНСОВОЙ) ОТЧЁТНОСТИ
A2: ООО Управляющая компания «Регион Финанс»
A3: ='1'!B3 -> по состоянию на 30.06.2025
A4: Примечание 3. Основы составления отчетности
D5: Таблица 3.1
A6: Номер строки | B6: Стандарт МСФО | C6: Требования к раскрытию информации | D6: Описание
A7: 1 | B7: 2 | C7: 3 | D7: 4
A8: 1 | B8: МСФО (IAS) 1 | C8: Некредитная финансовая организация должна явно и однозначно указать основы подготовки бухгалтерской (финансовой) отчетности | D8: Настоящая годовая бухгалтерская (финансовая) отчетность подготовлена в соответствии с правилами составления годовой бухгалтерской (финансовой) отчетности, установленными в Российской Федерации, и соответствует требованиям отраслевых стандартов бухгалтерского учета в некредитных финансовых организациях (далее - ОСБУ).
A9: 2 | B9: МСФО (IAS) 1 | C9: База (или базы) оценки, использованная (использованные) при составлении бухгалтерской (финансовой) отчетности | D9: Финансовая отчетность подготовлена в соответствии с принципом учета по амортизированной стоимости, изменения которой отражаются в составе прибыли или убытка.
A11: 3 | B11: МСФО (IAS) 1 | C11: Причины реклассификации сравнительных сумм | D11: В отчётном периоде реклассификации сравнительных сумм не проводилось.
A12: 4 | B12: МСФО (IAS) 1 | C12: Характер реклассификаций сравнительных сумм (включая информацию по состоянию на начало предшествующего периода) | D12: -
A13: 5 | B13: МСФО (IAS) 1 | C13: Сумма каждой статьи (класса статей), которая является предметом реклассификации | D13: -
A14: 6 | B14: МСФО (IAS) 1 | C14: Существенное влияние ретроспективного применения учетной политики на информацию на начало предшествующего отчетного периода, существенное влияние ретроспективного пересчета или реклассификации остатков на начало предшествующего отчетного периода в связи с исправлением ошибок | D14: -

Sheet 4
A1: ПРИМЕЧАНИЯ К БУХГАЛТЕРСКОЙ (ФИНАНСОВОЙ) ОТЧЁТНОСТИ
A2: ООО Управляющая компания «Регион Финанс»
A3: ='1'!B3 -> по состоянию на 30.06.2025
A4: Примечание 4. Краткое изложение принципов учетной политики, важные оценки и профессиональные суждения в применении учетной политики
D5: Таблица 4.1
A6: Номер строки | B6: Стандарт МСФО | C6: Требования к раскрытию информации | D6: Описание
A7: 1 | B7: 2 | C7: 3 | D7: 4
A8: Раздел I. Влияние оценок и допущений
A9: 1 | B9: МСФО (IAS) 1 | C9: Суждения (помимо тех, которые связаны с оценкой), которые были выработаны руководством в процессе применения учетной политики и которые оказывают наибольшее влияние на суммы, отраженные в бухгалтерской (финансовой) отчетности | D9: В процессе применения учетной политики руководство формирует различные суждения, помимо тех, что связаны с расчетными оценками, которые могут в значительной мере влиять на суммы, признаваемые в финансовой отчетности. Указанные суждения раскрываются вместе со значимыми положениями учетной политики.
A10: 2 | B10: МСФО (IAS) 1 | C10: Влияние оценок и допущений на признанные активы и обязательства (указываются статьи отчетности, на суммы которых профессиональные оценки и допущения оказывают наиболее существенное воздействие, и приводятся комментарии в отношении того, каким образом влияют профессиональные суждения на оценку этих статей) | D10: Небольшое влияние на активы оказывают оценки и суждения , связанные с определением резервов под обесценение.
A11: 3 | B11: МСФО (IAS) 1, МСФО (IFRS) 13, МСФО (IFRS) 9 | C11: Ключевые подходы к оценке финансовых инструментов | D11: При отражении финансовых инструментов Компания использует следующие методы оценки: по первоначальной стоимости, по справедливой стоимости, и по амортизированной стоимости.
A12: 4 | B12: МСФО (IAS) 21 | C12: Переоценка активов и обязательств, выраженных в иностранной валюте | D12: Активы и обязательства, выраженные в иностранной валюте по состоянию на отчетную дату, переводятся в рубли по курсу Банка России, действовавшему на отчетную дату.
A13: 5 | B13: МСФО (IAS) 1 | C13: Непрерывность деятельности | D13: Бухгалтерская (финансовая) отчетность составляется на основе допущения, что Компания действует и будет действовать в обозримом будущем (по крайней мере, в течение 12 месяцев после окончания отчетного периода), но не ограничивается этим сроком.
A14: 6 | B14: МСФО (IAS) 29 | C14: Информация в отношении пересчета показателей предыдущих периодов с учетом изменений общей покупательной способности рубля | D14: -
A15: Раздел II. Изменения в учетной политике
A16: 7 | B16: МСФО (IAS) 8 | C16: Описание изменений учетной политики, их причин и характера (раскрываются наименование МСФО, в соответствии с которым производятся изменения, причины, по которым применение новых МСФО обеспечивает более надежную и уместную корректировку, и дается описание влияния изменений учетной политики на корректировки текущего и предыдущего периода) | D16: -
A17: 8 | B17: МСФО (IAS) 8 | C17: Приводятся наименования выпущенных, но не вступивших в силу МСФО с указанием дат, с которых планируется применение этих МСФО, дат, с которых требуется применение этих МСФО, характера предстоящих изменений в учетной политике, обсуждения ожидаемого влияния на отчетность или указанием того, что такое влияние не может быть обоснованно оценено. | D17: Дата вступления в силу 1 января 2025 года: Поправки к МСФО (IAS) 21 – «Отсутствие возможности обмена валют»; Дата вступления в силу 1 января 2026 года: Поправки к МСФО (IFRS) 7, МСФО (IFRS) 9 – «Поправки к классификации и оценке финансовых инструментов»; «Ежегодные усовершенствования стандартов финансовой отчетности МСФО – том 11» Дата вступления в силу 1 января 2027 года: МСФО (IFRS) 18 «Представление и раскрытие информации в финансовой отчетности»; МСФО (IFRS) 19 «Дочерние организации без обязательства отчитываться публично: раскрытие информации».
A19: Раздел III. Принципы учетной политики, которые представляются уместными для понимания бухгалтерской (финансовой) отчетности. Критерии признания и база оценки финансовых инструментов
A20: 9 | B20: МСФО (IAS) 1, МСФО (IFRS) 7 | C20: Критерии признания и база оценки денежных средств и их эквивалентов | D20: Денежные и приравненные к ним средства включают высоколиквидные объекты, легко конвертируемые в заранее известные суммы денежных средств с первоначальным сроком погашения менее трех месяцев и не подверженные значительному риску изменения их стоимости. В категорию денежных средств и их эквивалентов Компанией классифицируются следующие активы:- денежные средства на расчетных и специальных счетах, открытых в кредитных организациях. Денежные средства и их эквиваленты отражаются по амортизированной стоимости.
A21: 10 | B21: МСФО (IAS) 1, МСФО (IFRS) 7 | C21: Критерии признания и база оценки средств, размещенных в кредитных организациях и банках-нерезидентах | D21: Средства, размещенные в кредитных организациях являются статьями, которые могут быть конвертированы в известную сумму денежных средств в течение трёх дней и которые подвержены незначительному изменению стоимости. Суммы, в отношении которых имеются какие-либо ограничения на использование, исключаются из состава денежных средств и их эквивалентов. Данные средства отражаются по амортизированной стоимости.
A22: 11 | B22: МСФО (IFRS) 7, МСФО (IFRS) 9 | C22: Порядок признания и последующего учета финансовых активов, оцениваемых по справедливой стоимости через прибыль или убыток | D22: -
A23: 12 | B23: МСФО (IFRS) 7, МСФО (IFRS) 9 | C23: Порядок признания и последующего учета финансовых активов, оцениваемых по справедливой стоимости через прочий совокупный доход | D23: -
A24: 13 | B24: МСФО (IFRS) 9, МСФО (IFRS) 7 | C24: Порядок признания и последующего учета финансовых активов, оцениваемых по амортизированной стоимости | D24: В дальнейшем финансовые активы оцениваются по амортизированной стоимости с использованием создания резерва под обесценение.
A25: 14 | B25: МСФО (IAS) 1, МСФО (IAS) 27 | C25: Порядок признания и последующего учета инвестиций в дочерние, совместно контролируемые и ассоциированные предприятия | D25: -
A26: 15 | B26: МСФО (IAS) 1 | C26: Порядок признания и последующего учета прочих активов | D26: Прочие размещенные средства и дебиторская задолженность признается в момент возникновения и учитывается по первоначальной стоимости. В дальнейшем дебиторская задолженность оценивается по амортизированной стоимости с использованием создания резерва под обесценение. Денежные потоки, относящиеся к краткосрочной дебиторской задолженности, не дисконтируются, если эффект от дисконтирования несущественен.
A27: 16 | B27: МСФО (IFRS) 7, МСФО (IFRS) 9 | C27: Порядок признания и последующего учета финансовых обязательств, оцениваемых по справедливой стоимости через прибыль или убыток | D27: -
A28: 17 | B28: МСФО (IFRS) 7, МСФО (IFRS) 9 | C28: Порядок признания и последующего учета финансовых обязательств, оцениваемых по амортизированной стоимости | D28: -
A29: 18 | B29: МСФО (IAS) 32 | C29: Порядок проведения взаимозачетов финансовых активов и финансовых обязательств | D29: -
A30: Раздел IV. Порядок признания и последующего учета хеджирования
A31: 19 | B31: МСФО (IFRS) 7 | C31: Хеджирование потоков денежных средств (описание типа хеджирования, характера хеджируемых рисков, финансовых инструментов, признанных инструментами хеджирования) | D31: -
A32: 20 | B32: МСФО (IFRS) 7 | C32: Хеджирование справедливой стоимости (описание типа хеджирования, характера хеджируемых рисков, финансовых инструментов, признанных инструментами хеджирования) | D32: -
A33: 21 | B33: МСФО (IFRS) 7 | C33: Хеджирование чистых инвестиций в иностранные подразделения (описание типа хеджирования, характера хеджируемых рисков, финансовых инструментов, признанных инструментами хеджирования) | D33: -
A34: Раздел V. Критерии признания и база оценки инвестиционного имущества
A35: 22 | B35: МСФО (IAS) 40 | C35: Применяемая модель учета инвестиционного имущества | D35: Инвестиционное имущество оценивается по справедливой стоимости.
A36: 23 | B36: МСФО (IAS) 40 | C36: Критерии, используемые организацией в целях проведения различия между инвестиционным имуществом и объектами собственности, занимаемыми владельцем, а также имуществом, предназначенным для продажи в ходе обычной деятельности | D36: Инвестиционная недвижимость - недвижимость (земля, или здание (либо часть здания), или то и другое), удерживаемая (собственником или же арендатором в качестве актива в форме права пользования) с целью получения арендных платежей, или с целью получения выгоды от прироста стоимости, или того и другого, но не для:
D37: a) использования в производстве или поставке товаров или услуг либо в административных целях; или
D38: (b) продажи в ходе обычной деятельности.
A39: 24 | B39: МСФО (IAS) 40 | C39: Степень, в которой справедливая стоимость инвестиционного имущества (измеренная или раскрытая в бухгалтерской (финансовой) отчетности) основана на оценке, произведенной независимым оценщиком, обладающим соответствующей признанной профессиональной квалификацией, а также недавним опытом проведения оценки инвестиций в недвижимость той же категории и того же места нахождения, что и оцениваемый объект | D39: Справедливая стоимость достоверна и основана на оценке, произведенной независимым оценщиком, обладающим соответствующей признанной профессиональной квалификацией, а также недавним опытом проведения оценки инвестиций в недвижимость той же категории и того же места нахождения, что и оцениваемый объект.
A40: Раздел VI. Критерии признания, база оценки основных средств
A41: 25 | B41: МСФО (IAS) 16 | C41: База, используемая для оценки основных средств (для каждого класса активов) | D41: Основные средства всех классификационных групп учитываются по модели по первоначальной стоимости за вычетом накопленной амортизации и накопленных убытков от обесценения.
...

Sheet 5.1
A1: ПРИМЕЧАНИЯ К БУХГАЛТЕРСКОЙ (ФИНАНСОВОЙ) ОТЧЁТНОСТИ
A2: ООО Управляющая компания «Регион Финанс»
A3: ='1'!B3 -> по состоянию на 30.06.2025
A4: Примечание 5. Денежные средства
H5: Таблица 5.1
A6: Номер строки | B6: Наименование показателя | C6: 30 июня 2025 г. | F6: 31 декабря 2024 г.
C7: Полная балансовая стоимость | D7: Резерв под обесценение | E7: Балансовая стоимость | F7: Полная балансовая стоимость | G7: Резерв под обесценение | H7: Балансовая стоимость
A8: 1 | B8: 2 | C8: 3 | D8: 4 | E8: 5 | F8: 3 | G8: 4 | H8: 5
A9: 1 | B9: Денежные средства в кассе | C9: 0 | D9: 0 | E9: =C9-D9 -> 0 | F9: 0 | G9: 0 | H9: =F9-G9 -> 0
A10: 2 | B10: Денежные средства в пути | C10: 0 | D10: 0 | E10: =C10-D10 -> 0 | F10: 0 | G10: 0 | H10: =F10-G10 -> 0
A11: 3 | B11: Денежные средства на расчетных счетах | C11: 703280.43 | D11: 7033 | E11: 696247.43 | F11: 70138.81 | G11: 702 | H11: 69436.81
A12: 4 | B12: Денежные средства, переданные в доверительное управление | C12: 0 | D12: 0 | E12: 0 | F12: 0 | G12: 0 | H12: 0
A13: 5 | B13: Прочие денежные средства | C13: 0 | D13: 0 | E13: 0 | F13: 0 | G13: 0 | H13: 0
A14: 6 | B14: Итого | C14: 703280.43 | D14: 7033 | E14: 696247.43 | F14: 70138.81 | G14: 702 | H14: 69436.81
A16: 5.1.1. По состоянию на 30 июня 2025 года у некредитной финансовой организации были остатки денежных средств в 6-и кредитных организациях (на 31 декабря 2024 года: в 3-и кредитных организациях). Совокупная сумма этих остатков составляла 696,247439 тысяч рублей (на 31.12.2024 года: 69, 43681 тысяч рублей), или 100 процентов от общей суммы денежных средств (на 31.12.2024 года: 100 процентов).
A17: 5.1.2. Денежные средства, использование которых ограничено, по состоянию на 31.03.2025 года включает 0 тысяч рублей (на 31.12.2024 года: 0 тысяч рублей).
C57: ='5.5'!C104-G11 -> 0 | F57: ='5.5'!F104-G14 -> 0

Sheet 5.2
A1: ПРИМЕЧАНИЯ К БУХГАЛТЕРСКОЙ (ФИНАНСОВОЙ) ОТЧЁТНОСТИ
A2: ООО Управляющая компания «Регион Финанс»
A3: ='5.1'!A3:H3 -> по состоянию на 30.06.2025
A4: Примечание 5. Денежные средства.
A5: Компоненты денежных средств и их эквивалентов
E6: Таблица 5.2
A7: Номер строки | B7: Наименование показателя | D7: ='5.1'!C6 -> 30 июня 2025 г. | E7: ='5.1'!F6 -> 31 декабря 2024 г.
A8: 1 | B8: 2 | D8: 3 | E8: 4
A9: 1 | B9: Денежные средства | D9: 703280.43 | E9: 70138.81
A10: 2 | B10: Краткосрочные высоколиквидные ценные бумаги, классифицируемые как эквиваленты денежных средств в соответствии с учетной политикой | D10: 0 | E10: 0
A11: 3 | B11: Остатки средств в кредитных организациях и банках-нерезидентах, классифицируемые как эквиваленты денежных средств в соответствии с учетной политикой | D11: 0 | E11: 0
A12: 4 | B12: Кредит, полученный в порядке расчетов по расчетному счету (овердрафт) | D12: 0 | E12: 0
A13: 5 | B13: Оценочный резерв под ожидаемые кредитные убытки | D13: -7033 | E13: -702
A14: 6 | B14: Дополнительные существенные компоненты денежных средств и их эквивалентов | D14: 0 | E14: 0
A15: 7 | B15: Прочее | D15: 0 | E15: 0
A16: 8 | B16: Итого | D16: 696247.43 | E16: 69436.81

Sheet 5.4
A1: ПРИМЕЧАНИЯ К БУХГАЛТЕРСКОЙ (ФИНАНСОВОЙ) ОТЧЁТНОСТИ
A2: ООО Управляющая компания «Регион Финанс»
A3: ='5.1'!A3:H3 -> по состоянию на 30.06.2025
A4: Примечание 5. Денежные средства.
A5: Выверка изменений полной балансовой стоимости денежных средств
F6: Таблица 5.4
A7: Номер строки | B7: Наименование показателя | C7: Денежные средства на расчетных счетах | D7: Денежные средства, переданные в доверительное управление | E7: Прочие денежные средства | F7: Итого
A8: 1 | B8: 2 | C8: 3 | D8: 4 | E8: 5 | F8: 6
A9: 1 | B9: Полная балансовая стоимость по состоянию на начало отчетного периода, | C9: =SUM(C11:C14) -> 70138.81 | D9: =SUM(D11:D14) -> 0 | E9: =SUM(E11:E14) -> 0 | F9: =SUM(F11:F14) -> 70138.81
B10: в том числе:
A11: 2 | B11: финансовые активы, кредитные убытки по которым ожидаются в течение 12 месяцев | C11: ='5.1'!F11 -> 70138.81 | D11: 0 | E11: 0 | F11: =SUM(C11:E11) -> 70138.81
A12: 3 | B12: финансовые активы, кредитные убытки по которым ожидаются в течение всего срока жизни (коллективная оценка) | C12: 0 | D12: 0 | E12: 0 | F12: =SUM(C12:E12) -> 0
A13: 4 | B13: финансовые активы, кредитные убытки по которым ожидаются в течение всего срока жизни (индивидуальная оценка) | C13: 0 | D13: 0 | E13: 0 | F13: =SUM(C13:E13) -> 0
A14: 5 | B14: кредитно-обесцененные финансовые активы | C14: 0 | D14: 0 | E14: ='5.1'!F13 -> 0 | F14: =SUM(C14:E14) -> 0
A15: 6 | B15: Поступление финансовых активов, | C15: =SUM(C17:C20) -> 4.6953625e+08 | D15: =SUM(D17:D20) -> 0 | E15: =SUM(E17:E20) -> 0 | F15: =SUM(F17:F20) -> 4.6953625e+08
B16: в том числе:
A17: 7 | B17: финансовые активы, кредитные убытки по которым ожидаются в течение 12 месяцев | C17: 4.6953625e+08 | D17: 0 | E17: 0 | F17: =SUM(C17:E17) -> 4.6953625e+08
A18: 8 | B18: финансовые активы, кредитные убытки по которым ожидаются в течение всего срока жизни (коллективная оценка) | C18: 0 | D18: 0 | E18: 0 | F18: =SUM(C18:E18) -> 0
A19: 9 | B19: финансовые активы, кредитные убытки по которым ожидаются в течение всего срока жизни (индивидуальная оценка) | C19: 0 | D19: 0 | E19: 0 | F19: =SUM(C19:E19) -> 0
A20: 10 | B20: кредитно-обесцененные финансовые активы | C20: 0 | D20: 0 | E20: 0 | F20: =SUM(C20:E20) -> 0
A21: 11 | B21: Прекращение признания финансовых активов, | C21: =SUM(C23:C26) -> -4.6890311e+08 | D21: =SUM(D23:D26) -> 0 | E21: =SUM(E23:E26) -> 0 | F21: =SUM(F23:F26) -> -4.6890311e+08
B22: в том числе:
A23: 12 | B23: финансовые активы, кредитные убытки по которым ожидаются в течение 12 месяцев | C23: =-(468903112.14) -> -4.6890311e+08 | D23: 0 | E23: 0 | F23: =SUM(C23:E23) -> -4.6890311e+08
A24: 13 | B24: финансовые активы, кредитные убытки по которым ожидаются в течение всего срока жизни (коллективная оценка) | C24: 0 | D24: 0 | E24: 0 | F24: =SUM(C24:E24) -> 0
A25: 14 | B25: финансовые активы, кредитные убытки по которым ожидаются в течение всего срока жизни (индивидуальная оценка) | C25: 0 | D25: 0 | E25: 0 | F25: =SUM(C25:E25) -> 0
A26: 15 | B26: кредитно-обесцененные финансовые активы | C26: 0 | D26: 0 | E26: 0 | F26: =SUM(C26:E26) -> 0
A27: 16 | B27: Списание финансовых активов, | C27: =SUM(C29:C32) -> 0 | D27: =SUM(D29:D32) -> 0 | E27: =SUM(E29:E32) -> 0 | F27: =SUM(F29:F32) -> 0
B28: в том числе:
A29: 17 | B29: финансовые активы, кредитные убытки по которым ожидаются в течение 12 месяцев | C29: 0 | D29: 0 | E29: 0 | F29: =SUM(C29:E29) -> 0
A30: 18 | B30: финансовые активы, кредитные убытки по которым ожидаются в течение всего срока жизни (коллективная оценка) | C30: 0 | D30: 0 | E30: 0 | F30: =SUM(C30:E30) -> 0
A31: 19 | B31: финансовые активы, кредитные убытки по которым ожидаются в течение всего срока жизни (индивидуальная оценка) | C31: 0 | D31: 0 | E31: 0 | F31: =SUM(C31:E31) -> 0
A32: 20 | B32: кредитно-обесцененные финансовые активы | C32: 0 | D32: 0 | E32: 0 | F32: =SUM(C32:E32) -> 0
A33: 21 | B33: Изменения в результате модификации, которая не привела к прекращению признания финансового актива, | C33: =SUM(C35:C38) -> 0 | D33: =SUM(D35:D38) -> 0 | E33: =SUM(E35:E38) -> 0 | F33: =SUM(F35:F38) -> 0
B34: в том числе:
A35: 22 | B35: финансовые активы, кредитные убытки по которым ожидаются в течение 12 месяцев | C35: 0 | D35: 0 | E35: 0 | F35: =SUM(C35:E35) -> 0
A36: 23 | B36: финансовые активы, кредитные убытки по которым ожидаются в течение всего срока жизни (коллективная оценка) | C36: 0 | D36: 0 | E36: 0 | F36: =SUM(C36:E36) -> 0
A37: 24 | B37: финансовые активы, кредитные убытки по которым ожидаются в течение всего срока жизни (индивидуальная оценка) | C37: 0 | D37: 0 | E37: 0 | F37: =SUM(C37:E37) -> 0
A38: 25 | B38: кредитно-обесцененные финансовые активы | C38: 0 | D38: 0 | E38: 0 | F38: =SUM(C38:E38) -> 0
A39: 26 | B39: Изменение порядка определения оценочного убытка от обесценения, | C39: =SUM(C41:C44) -> 0 | D39: =SUM(D41:D44) -> 0 | E39: =SUM(E41:E44) -> 0 | F39: =SUM(F41:F44) -> 0
B40: в том числе:
...

Sheet 5.5
A1: ПРИМЕЧАНИЯ К БУХГАЛТЕРСКОЙ (ФИНАНСОВОЙ) ОТЧЁТНОСТИ
A2: ООО Управляющая компания «Регион Финанс»
A3: ='5.1'!A3:H3 -> по состоянию на 30.06.2025
A4: Примечание 5. Денежные средства.
A5: Выверка изменений оценочного резерва под ожидаемые кредитные убытки по денежным средствам
F6: Таблица 5.5
A7: Номер строки | B7: Наименование показателя | C7: Денежные средства на расчетных счетах | D7: Денежные средства, переданные в доверительное управление | E7: Прочие денежные средства | F7: Итого
A8: 1 | B8: 2 | C8: 3 | D8: 4 | E8: 5 | F8: 6
A9: 1 | B9: Резерв под обесценение по состоянию на начало отчетного периода, | C9: 702 | D9: 0 | E9: 0 | F9: 702
B10: в том числе:
A11: 2 | B11: финансовые активы, кредитные убытки по которым ожидаются в течение 12 месяцев | C11: 702 | D11: 0 | E11: 0 | F11: 702
A12: 3 | B12: финансовые активы, кредитные убытки по которым ожидаются в течение всего срока жизни (коллективная оценка) | C12: 0 | D12: 0 | E12: 0 | F12: 0
A13: 4 | B13: финансовые активы, кредитные убытки по которым ожидаются в течение всего срока жизни (индивидуальная оценка) | C13: 0 | D13: 0 | E13: 0 | F13: 0
A14: 5 | B14: кредитно-обесцененные финансовые активы | C14: 0 | D14: 0 | E14: 0 | F14: 0
A15: 6 | B15: Поступление финансовых активов, | C15: 6633 | D15: 0 | E15: 0 | F15: 6633
B16: в том числе:
A17: 7 | B17: финансовые активы, кредитные убытки по которым ожидаются в течение 12 месяцев | C17: 6633 | D17: 0 | E17: 0 | F17: 6633
A18: 8 | B18: финансовые активы, кредитные убытки по которым ожидаются в течение всего срока жизни (коллективная оценка) | C18: 0 | D18: 0 | E18: 0 | F18: 0
A19: 9 | B19: финансовые активы, кредитные убытки по которым ожидаются в течение всего срока жизни (индивидуальная оценка) | C19: 0 | D19: 0 | E19: 0 | F19: 0
A20: 10 | B20: кредитно-обесцененные финансовые активы | C20: 0 | D20: 0 | E20: 0 | F20: 0
A21: 11 | B21: Прекращение признания финансовых активов, | C21: -302 | D21: 0 | E21: 0 | F21: -302
B22: в том числе:
A23: 12 | B23: финансовые активы, кредитные убытки по которым ожидаются в течение 12 месяцев | C23: -302 | D23: 0 | E23: 0 | F23: -302
A24: 13 | B24: финансовые активы, кредитные убытки по которым ожидаются в течение всего срока жизни (коллективная оценка) | C24: 0 | D24: 0 | E24: 0 | F24: 0
A25: 14 | B25: финансовые активы, кредитные убытки по которым ожидаются в течение всего срока жизни (индивидуальная оценка) | C25: 0 | D25: 0 | E25: 0 | F25: 0
A26: 15 | B26: кредитно-обесцененные финансовые активы | C26: 0 | D26: 0 | E26: 0 | F26: 0
A27: 16 | B27: Списание финансовых активов, | C27: 0 | D27: 0 | E27: 0 | F27: 0
B28: в том числе:
A29: 17 | B29: финансовые активы, кредитные убытки по которым ожидаются в течение 12 месяцев | C29: 0 | D29: 0 | E29: 0 | F29: 0
A30: 18 | B30: финансовые активы, кредитные убытки по которым ожидаются в течение всего срока жизни (коллективная оценка) | C30: 0 | D30: 0 | E30: 0 | F30: 0
A31: 19 | B31: финансовые активы, кредитные убытки по которым ожидаются в течение всего срока жизни (индивидуальная оценка) | C31: 0 | D31: 0 | E31: 0 | F31: 0
A32: 20 | B32: кредитно-обесцененные финансовые активы | C32: 0 | D32: 0 | E32: 0 | F32: 0
A33: 21 | B33: Изменения в результате модификации, которая не привела к прекращению признания финансового актива, | C33: 0 | D33: 0 | E33: 0 | F33: 0
B34: в том числе:
A35: 22 | B35: финансовые активы, кредитные убытки по которым ожидаются в течение 12 месяцев | C35: 0 | D35: 0 | E35: 0 | F35: 0
A36: 23 | B36: финансовые активы, кредитные убытки по которым ожидаются в течение всего срока жизни (коллективная оценка) | C36: 0 | D36: 0 | E36: 0 | F36: 0
A37: 24 | B37: финансовые активы, кредитные убытки по которым ожидаются в течение всего срока жизни (индивидуальная оценка) | C37: 0 | D37: 0 | E37: 0 | F37: 0
A38: 25 | B38: кредитно-обесцененные финансовые активы | C38: 0 | D38: 0 | E38: 0 | F38: 0
A39: 26 | B39: Изменение порядка определения оценочного убытка от обесценения, | C39: 0 | D39: 0 | E39: 0 | F39: 0
B40: в том числе:
...

Sheet 6.1
A1: ПРИМЕЧАНИЯ К БУХГАЛТЕРСКОЙ (ФИНАНСОВОЙ) ОТЧЁТНОСТИ
A2: ООО Управляющая компания «Регион Финанс»
A3: ='5.1'!A3:H3 -> по состоянию на 30.06.2025
A4: Примечание 6. Финансовые активы, в обязательном порядке классифицируемые как оцениваемые по справедливой стоимости через прибыль или убыток
A5: Финансовые активы, в обязательном порядке классифицируемые как оцениваемые по справедливой стоимости через прибыль или убыток
D6: Таблица 6.1
A7: Номер строки | B7: Наименование показателя | C7: ='5.1'!C6 -> 30 июня 2025 г. | D7: ='5.1'!F6 -> 31 декабря 2024 г.
A8: 1 | B8: 2 | C8: 3 | D8: 4
A9: 1 | B9: Ценные бумаги, удерживаемые для торговли | C9: 73748576 | D9: =83101471.11-9352894.91 -> 73748576
A10: 2 | B10: Прочие долевые инструменты, удерживаемые для торговли | C10: 0 | D10: 0
A11: 3 | B11: Производные финансовые инструменты, от которых ожидается увеличение экономических выгод | C11: 0 | D11: 0
A12: 4 | B12: Встроенные производные финансовые инструменты, от которых ожидается увеличение экономических выгод | C12: 0 | D12: 0
A13: 5 | B13: Займы выданные и депозиты в кредитных организациях и банках-нерезидентах, в обязательном порядке классифицируемые как оцениваемые по справедливой стоимости через прибыль или убыток | C13: 0 | D13: 0
A14: 5(1) | B14: Цифровые финансовые активы, в обязательном порядке классифицируемые как оцениваемые по справедливой стоимости через прибыль или убыток | C14: 0 | D14: 0
A15: 6 | B15: Итого | C15: =SUM(C9:C14) -> 73748576 | D15: =SUM(D9:D14) -> 73748576
A17: 6.1.1. Состав строки 1 таблицы раскрывается в таблице 6.2 настоящего примечания.
A18: 6.1.2. Состав строки 3 таблицы раскрывается в примечании 55 настоящего приложения.
A19: 6.1.3. Состав строки 5 таблицы раскрывается в таблице 6.3 настоящего примечания.
A20: 6.1.4. Информация о реклассификации долговых инструментов в категорию финансовых активов, классифицируемых как оцениваемые по справедливой стоимости через прибыль или убыток, представлена в таблице 6.4 настоящего примечания. Информация о реклассификации из категории финансовых активов, оцениваемых по амортизированной стоимости, представлена в таблице 8.5 примечания 8 и таблице 37.2 примечания 37 настоящего приложения.
A22: Порядок составления таблицы 6.1 и пояснений к ней
A24: 1. В таблице раскрывается состав статьи бухгалтерского баланса "Финансовые активы, в обязательном порядке классифицируемые как оцениваемые по справедливой стоимости через прибыль или убыток".
A25: 2. По строкам 1 - 5(1) таблицы отражаются остатки по соответствующим счетам бухгалтерского учета в соответствии с приложением 8.1 к настоящему Положению.
A26: 3. По строке 6 таблицы отражается сумма значений по строкам 1 - 5(1).

Sheet 6.2
A1: ПРИМЕЧАНИЯ К БУХГАЛТЕРСКОЙ (ФИНАНСОВОЙ) ОТЧЁТНОСТИ
A2: ООО Управляющая компания «Регион Финанс»
A3: ='5.1'!A3:H3 -> по состоянию на 30.06.2025
A4: Примечание 6. Финансовые активы, в обязательном порядке классифицируемые как оцениваемые по справедливой стоимости через прибыль или убыток
A5: Ценные бумаги, удерживаемые для торговли
D6: Таблица 6.2.
A7: Номер строки | B7: Наименование показателя | C7: ='5.1'!C6:E6 -> 30 июня 2025 г. | D7: ='5.1'!F6 -> 31 декабря 2024 г.
A8: 1 | B8: 2 | C8: 3 | D8: 4
A9: 1 | B9: Долевые ценные бумаги, удерживаемые для торговли, в том числе: | C9: =C10 -> 73748576 | D9: =D10 -> 73748576
A10: 2 | B10: кредитных организаций и банков-нерезидентов | C10: ='6.1'!C9 -> 73748576 | D10: ='6.1'!D9 -> 73748576
A11: 3 | B11: некредитных финансовых организаций | C11: 0 | D11: 0
A12: 4 | B12: нефинансовых организаций | C12: 0 | D12: 0
A13: 5 | B13: Долговые ценные бумаги, удерживаемые для торговли, в том числе: | C13: 0 | D13: 0
A14: 6 | B14: Правительства Российской Федерации | C14: 0 | D14: 0
A15: 7 | B15: субъектов Российской Федерации и органов местного самоуправления | C15: 0 | D15: 0
A16: 8 | B16: иностранных государств | C16: 0 | D16: 0
A17: 9 | B17: кредитных организаций и банков-нерезидентов | C17: 0 | D17: 0
A18: 10 | B18: некредитных финансовых организаций | C18: 0 | D18: 0
A19: 11 | B19: нефинансовых организаций | C19: 0 | D19: 0
A20: 12 | B20: Итого | C20: =C9+C13 -> 73748576 | D20: =D9+D13 -> 73748576
A22: 1. В таблице раскрывается информация о ценных бумагах, удерживаемых для торговли.
A23: 2. По строке 1 таблицы отражается сумма значений по строкам 2 - 4.
A24: 3. По строке 5 таблицы отражается сумма значений по строкам 6 - 11.
A25: 4. По строкам 2 - 4, 6 - 11 отражаются остатки по соответствующим счетам бухгалтерского учета в соответствии с приложением 8.1 настоящего Положения.
A26: 5. По строке 12 таблицы отражается сумма значений по строкам 1 и 5.
A28: Порядок составления таблицы 6.1 и пояснений к ней
A30: 1. В таблице раскрывается состав статьи бухгалтерского баланса "Финансовые активы, в обязательном порядке классифицируемые как оцениваемые по справедливой стоимости через прибыль или убыток".
A31: 2. По строкам 1 - 5(1) таблицы отражаются остатки по соответствующим счетам бухгалтерского учета в соответствии с приложением 8.1 к настоящему Положению.
A32: 3. По строке 6 таблицы отражается сумма значений по строкам 1 - 5(1).

Sheet 10.1
A1: ПРИМЕЧАНИЯ К БУХГАЛТЕРСКОЙ (ФИНАНСОВОЙ) ОТЧЁТНОСТИ
A2: ООО Управляющая компания «Регион Финанс»
A3: ='5.1'!A3:H3 -> по состоянию на 30.06.2025
A4: Примечание 10. Средства в кредитных организациях и банках-нерезидентах
H5: Таблица 10.1
A6: Номер строки | B6: Наименование показателя | C6: ='5.1'!C6:E6 -> 30 июня 2025 г. | F6: ='5.1'!F6 -> 31 декабря 2024 г.
C7: Полная балансовая стоимость | D7: Резерв под обесценение | E7: Балансовая стоимость | F7: Полная балансовая стоимость | G7: Резерв под обесценение | H7: Балансовая стоимость
A8: 1 | B8: 2 | C8: 3 | D8: 4 | E8: 5 | F8: 3 | G8: 4 | H8: 5
A9: 1 | B9: Долговые ценные бумаги кредитных организаций и банков-нерезидентов, оцениваемые по амортизированной стоимости | C9: 0 | D9: 0 | E9: =C9-D9 -> 0 | F9: 0 | G9: 0 | H9: =F9-G9 -> 0
A10: 2 | B10: Депозиты в кредитных организациях и банках-нерезидентах, оцениваемые по амортизированной стоимости, в том числе: | C10: 29362111 | D10: 293621 | E10: 29068490 | F10: 29803953 | G10: 298040 | H10: 29505913
A11: 3 | B11: субординированные депозиты | C11: 0 | D11: 0 | E11: 0 | F11: 0 | G11: 0 | H11: 0
A12: 4 | B12: Средства на клиринговых банковских счетах для исполнения обязательств и индивидуального клирингового обеспечения | C12: 0 | D12: 0 | E12: 0 | F12: 0 | G12: 0 | H12: 0
A13: 5 | B13: Средства на клиринговых банковских счетах коллективного клирингового обеспечения (гарантийный фонд) | C13: 0 | D13: 0 | E13: 0 | F13: 0 | G13: 0 | H13: 0
A14: 6 | B14: Средства коллективного клирингового обеспечения (гарантийный фонд), размещенные во вклады в кредитных организациях | C14: 0 | D14: 0 | E14: 0 | F14: 0 | G14: 0 | H14: 0
A15: 7 | B15: Средства индивидуального клирингового обеспечения, размещенные во вклады в кредитных организациях | C15: 0 | D15: 0 | E15: 0 | F15: 0 | G15: 0 | H15: 0
A16: 8 | B16: Средства в клиринговых организациях, предназначенные для исполнения обязательств, допущенных к клирингу, и индивидуального клирингового обеспечения | C16: 0 | D16: 0 | E16: 0 | F16: 0 | G16: 0 | H16: 0
A17: 9 | B17: Средства в клиринговых организациях, предназначенные для коллективного клирингового обеспечения (гарантийный фонд) | C17: 0 | D17: 0 | E17: 0 | F17: 0 | G17: 0 | H17: 0
A18: 10 | B18: Расчеты доверителей (комитентов) по брокерским операциям с ценными бумагами и другими финансовыми активами | C18: 0 | D18: 0 | E18: 0 | F18: 0 | G18: 0 | H18: 0
A19: 11 | B19: Расчеты доверителей (комитентов) по брокерским операциям с ценными бумагами и другими финансовыми активами | C19: 0 | D19: 0 | E19: 0 | F19: 0 | G19: 0 | H19: 0
A20: 12 | B20: Прочее | C20: 0 | D20: 0 | E20: 0 | F20: 0 | G20: 0 | H20: 0
A21: 13 | B21: Итого | C21: 29362111 | D21: 293621 | E21: 29068490 | F21: 29803953 | G21: 298040 | H21: 29505913
A23: 10.1.1. По состоянию на 30.06.2025 года у некредитной финансовой организации были остатки средств в одной кредитной организации и банках-нерезидентах (на 31.12.2024 : в одной кредитной организации и банках-нерезидентах). Совокупная сумма этих средств составляла 29 803,95264 тысяч рублей (на 31.12.2024 года: 29 505,91264 тысяч рублей), или 100 процента (процентов) от общей суммы средств в кредитных организациях и банках-нерезидентах (на 31.12.2024 года: 100,00 процентов).
A24: 10.1.2. Средства в кредитных организациях и банках-нерезидентах, использование которых ограничено, по состоянию на 31.03.2025 года включают 0,00 тысяч рублей (на 31.12.2024 года: 0,00 тысяч рублей).

Sheet 10.2
A1: ПРИМЕЧАНИЯ К БУХГАЛТЕРСКОЙ (ФИНАНСОВОЙ) ОТЧЁТНОСТИ
A2: ООО Управляющая компания «Регион Финанс»
A3: ='5.1'!A3:H3 -> по состоянию на 30.06.2025
A4: Примечание 10. Средства в кредитных организациях и банках-нерезидентах.
A5: Выверка изменений полной балансовой стоимости средств в кредитных организациях и банках-нерезидентах
N6: Таблица 10.2
A7: Номер строки | B7: Наименование показателя | C7: Долговые ценные бумаги кредитных организаций и банков-нерезидентов | D7: Депозиты в кредитных организациях и банках-нерезидентах | E7: Средства на клиринговых банковских счетах для исполнения обязательств и индивидуального клирингового обеспечения | F7: Средства на клиринговых банковских счетах коллективного клирингового обеспечения (гарантийный фонд) | G7: Средства коллективного клирингового обеспечения (гарантийный фонд), размещенные во вклады в кредитных организациях | H7: Средства индивидуального клирингового обеспечения, размещенные во вклады в кредитных организациях | I7: Средства в клиринговых организациях, предназначенные для исполнения обязательств, допущенных к клирингу, и индивидуального клирингового обеспечения | J7: Средства в клиринговых организациях, предназначенные для коллективного клирингового обеспечения (гарантийный фонд | K7: Сделки обратного репо с кредитными организациями и банками-нерезидентами | L7: Расчеты доверителей (комитентов) по брокерским операциям с ценными бумагами и другими финансовыми активами | M7: Прочие средства | N7: Итого
A8: 1 | B8: 2 | C8: 3 | D8: 4 | E8: 5 | F8: 6 | G8: 7 | H8: 8 | I8: 9 | J8: 10 | K8: 11 | L8: 12 | M8: 13 | N8: 14
A9: 1 | B9: Полная балансовая стоимость по состоянию на начало отчетного периода, | C9: =SUM(C11:C14) -> 0 | D9: 29803953 | E9: 0 | F9: 0 | G9: 0 | H9: 0 | I9: 0 | J9: 0 | K9: 0 | L9: 0 | M9: 0 | N9: 29803953
B10: в том числе:
A11: 2 | B11: финансовые активы, кредитные убытки по которым ожидаются в течение 12 месяцев | C11: ='10.1'!F11 -> 0 | D11: 29803953 | E11: 0 | F11: 0 | G11: 0 | H11: 0 | I11: 0 | J11: 0 | K11: 0 | L11: 0 | M11: 0 | N11: 29803953
A12: 3 | B12: финансовые активы, кредитные убытки по которым ожидаются в течение всего срока жизни (коллективная оценка) | C12: 0 | D12: 0 | E12: 0 | F12: 0 | G12: 0 | H12: 0 | I12: 0 | J12: 0 | K12: 0 | L12: 0 | M12: 0 | N12: 0
